BEGIN:VCALENDAR
VERSION:2.0
PRODID:-//Thema - Cergy - ECPv6.14.0//NONSGML v1.0//EN
CALSCALE:GREGORIAN
METHOD:PUBLISH
X-WR-CALNAME:Thema - Cergy
X-ORIGINAL-URL:https://thema-cergy.eu
X-WR-CALDESC:Events for Thema - Cergy
REFRESH-INTERVAL;VALUE=DURATION:PT1H
X-Robots-Tag:noindex
X-PUBLISHED-TTL:PT1H
BEGIN:VTIMEZONE
TZID:Europe/Paris
BEGIN:DAYLIGHT
TZOFFSETFROM:+0100
TZOFFSETTO:+0200
TZNAME:CEST
DTSTART:20250330T010000
END:DAYLIGHT
BEGIN:STANDARD
TZOFFSETFROM:+0200
TZOFFSETTO:+0100
TZNAME:CET
DTSTART:20251026T010000
END:STANDARD
END:VTIMEZONE
BEGIN:VEVENT
DTSTART;TZID=Europe/Paris:20251219T123000
DTEND;TZID=Europe/Paris:20251219T173000
DTSTAMP:20260420T055206
CREATED:20251110T135136Z
LAST-MODIFIED:20251213T123329Z
UID:4385-1766147400-1766165400@thema-cergy.eu
SUMMARY:Workshop on Gender\, Inheritance\, and Fertility
DESCRIPTION:Registration to the workshop is free but mandatory. Please make sure to register using this link before December 5 \n\nProgram \n\nThe workshop will be held on the CYU campus\, in the Auditorium of the Maison de la Recherche SHS. \n12:30-13:00: Welcome Buffet Lunch and Coffee \n13:00-14:00: “Children are a Poor Women’s Wealth: How Inheritance Rights Affect Fertility” by Mathilde Sage (UCLouvain et UNamur) \nDiscussant: Nouhoum Touré (University Paris I\, CES) \n14:00-15:00: “Bargaining Power and Inheritance Norms: Evidence from Polygamous Households in Nigeria” by Jennifer Golan (University of Bath)\, joint work with Alessia Isopi (University of Manchester) \nDiscussant: Sylvie Lambert (INRA\, PSE) \n15:00-15:30: Coffee break \n15:30-16:30: “Inheritance\, Fertility\, and Son Preference: Evidence from Pre-Industrial France”\, by Tommasio d’Amelio (Université Libre de Bruxelles\, ECARES)\, joint work with Joanne Haddad (ULB\, ECARES) and Lamis Kattan (Edmund A. Walsh School of Foreign Service\, George-town University in Qatar) \nDiscussant: Marion Leturcq (INED) \n16:30-17:30: “Inheritance Customs\, the European Marriage Pattern\, and Female Empowerment”\, by Marc Goñi  (University of Bergen)\, joint work with Matthew Curtis (University of Southern Denmark)\, Paula E. Gobbi (ULB\, ECARES)\, and Joanne Haddad (ULB\, ECARES). \nDiscussant: Stefania Marcassa (CY Cergy Paris University) \nWorkshop organizers: Rozenn Hotte (LEO\, University of Tours)\, Stefania Marcassa (Thema\, CY Cergy Paris Université)\, Pauline Morault (Thema\, CY Cergy Paris Université)\, in collaboration with Clément Bosquet (CES\, University of Paris 1)\, Sarah Flèche (CES\, University of Paris 1)\, and Laurine Martinoty (CES\, University of Paris 1)
URL:https://thema-cergy.eu/event/workshop-on-gender-inheritance-and-fertility/
CATEGORIES:Conference
ATTACH;FMTTYPE=image/png:https://thema-cergy.eu/wp-content/uploads/2025/11/Maison_SHS_CY.png
END:VEVENT
END:VCALENDAR