BEGIN:VCALENDAR
VERSION:2.0
PRODID:-//Thema - Cergy - ECPv6.14.0//NONSGML v1.0//EN
CALSCALE:GREGORIAN
METHOD:PUBLISH
X-WR-CALNAME:Thema - Cergy
X-ORIGINAL-URL:https://thema-cergy.eu
X-WR-CALDESC:Events for Thema - Cergy
REFRESH-INTERVAL;VALUE=DURATION:PT1H
X-Robots-Tag:noindex
X-PUBLISHED-TTL:PT1H
BEGIN:VTIMEZONE
TZID:Europe/Paris
BEGIN:DAYLIGHT
TZOFFSETFROM:+0100
TZOFFSETTO:+0200
TZNAME:CEST
DTSTART:20260329T010000
END:DAYLIGHT
BEGIN:STANDARD
TZOFFSETFROM:+0200
TZOFFSETTO:+0100
TZNAME:CET
DTSTART:20261025T010000
END:STANDARD
END:VTIMEZONE
BEGIN:VEVENT
DTSTART;VALUE=DATE:20260427
DTEND;VALUE=DATE:20260428
DTSTAMP:20260420T042232
CREATED:20260312T160522Z
LAST-MODIFIED:20260415T220536Z
UID:6172-1777248000-1777334399@thema-cergy.eu
SUMMARY:Workshop REGINEQ
DESCRIPTION:On April 27\, 2026\, Grégory Verdugo will organize the REGINEQ Workshop at CY Cergy Paris University. The workshop marks the conclusion of the ANR project “Inégalités de revenu nationales et régionales : harmonisation et analyse de données de plusieurs pays.” It will present new research on the measurement and comparison of national and regional income inequalities using harmonized international datasets\, bringing together collaborators involved in the project and external researchers working on inequality measurement. \nThe workshop will take place at the Maison de la Recherche. The program can be found here
URL:https://thema-cergy.eu/event/workshop-regineq/
LOCATION:CY Cergy Paris Université\, 33 boulevard du Port\, Cergy-Pontoise\, 95011\, France
CATEGORIES:Conference
END:VEVENT
BEGIN:VEVENT
DTSTART;VALUE=DATE:20260527
DTEND;VALUE=DATE:20260528
DTSTAMP:20260420T042232
CREATED:20260312T160233Z
LAST-MODIFIED:20260312T160233Z
UID:6169-1779840000-1779926399@thema-cergy.eu
SUMMARY:3rd Edition of Econom'IA Workshop
DESCRIPTION:This workshop\, held May 27-28 at CY Cergy-Paris University aims to explore and foster the cutting-edge applications of Artificial Intelligence (AI)\, Text Mining\, Web Mining\, Data Visualization\, and other innovative techniques in all the fields of Economics. \nEconom’IA brings together researchers from the academic world as well as entrepreneurs that use innovative techniques to analyse economic data. \nThis 2-day workshop proposes training workshops in the morning to discover new tools and techniques. The afternoon is devoted to presentations and discussions of articles using at least one of the innovative techniques covered in the workshops. \nThe 2 days are led by leading researchers in the field. \nThe organising committee is composed of:  \n\nRim Bahroun (Economix\, Université Paris Nanterre\, CNRS)\nMaxime Lucet (LIP6\, Sorbonne Université)\nFrançois Maublanc (Thema\, CY Cergy Paris Université)\nOlha Nahorna (Bordeaux School of Economics\, Université de Bordeaux\, CNRS)\nArnold Vialfont (Erudite\, Université Paris Est Créteil)\nMessaoud Zouikri (Economix\, université Paris Nanterre)\n\nMore information on the website of the workshop
URL:https://thema-cergy.eu/event/3rd-edition-of-economia-workshop/
LOCATION:CY Cergy Paris Université\, 33 boulevard du Port\, Cergy-Pontoise\, 95011\, France
CATEGORIES:Conference
END:VEVENT
BEGIN:VEVENT
DTSTART;VALUE=DATE:20260527
DTEND;VALUE=DATE:20260530
DTSTAMP:20260420T042232
CREATED:20260312T160003Z
LAST-MODIFIED:20260312T160358Z
UID:6166-1779840000-1780099199@thema-cergy.eu
SUMMARY:SITES-AICC conference 2026: Development and Climate Mitigation/Adaptation
DESCRIPTION:The Conference in Development and Climate Economics is jointly organised by SITES\, AICC and the Fondazione Tor Vergata of the University of Rome Tor Vergata. It will be held at Villa Mondragone\, Frascati\, Rome\, Italy\, from May 27th to 29th\, 2026 \n\n\n\n\n\n\n\n\n\n\n\nThe accelerating climate crisis poses complex and uneven challenges for societies across the globe. Understanding how climate change interacts with economic development\, institutional capacity\, technological progress\, and social well-being is now one of the most urgent and intellectually demanding tasks for researchers and policymakers alike. This conference brings together leading scholars\, practitioners\, and international institutions to advance frontier knowledge on the intertwined agendas of development and climate change mitigation and adaptation. \nWe invite contributions that deepen our theoretical and empirical understanding across a broad range of interconnected themes  such as climate economics\, governance\, and global policy; development\, poverty reduction\, and inequality; energy transition\, technological innovation\, and the green economy;  human capital\, institutions\, and societal resilience; urban–rural dynamics\, infrastructure\, and sustainable land and water systems; historical perspectives on development and climate. \nBy fostering dialogue across economics\, social sciences\, environmental studies\, history\, engineering\, and public policy\, the conference aims to generate actionable insights that can guide effective climate mitigation and adaptation strategies globally. We particularly welcome interdisciplinary approaches\, innovative methodologies\, and policy-relevant research capable of informing international cooperation and advancing a just and sustainable development agenda. \nMore information on the website of the conference.
URL:https://thema-cergy.eu/event/sites-aicc-conference-2026-development-and-climate-mitigation-adaptation/
LOCATION:Villa Mondragone\, Rome\, Villa Mondragone\, Rome\, Italy
CATEGORIES:Conference
END:VEVENT
END:VCALENDAR